BEGIN:VCALENDAR
VERSION:2.0
PRODID:-//MyCup Tournament//Match Calendar//EN
CALSCALE:GREGORIAN
METHOD:PUBLISH
BEGIN:VEVENT
UID:match-9cc420cc-9179-4213-95f4-f2d461e815dc@mycup.me
DTSTAMP:20260421T034659Z
DTSTART:20240825T160000Z
DTEND:20240825T180000Z
SUMMARY:Crimson Lions vs Starfall Knights
DESCRIPTION:Premier League
LOCATION:Northern Star Stadium
STATUS:CONFIRMED
END:VEVENT
END:VCALENDAR