BEGIN:VCALENDAR
VERSION:2.0
PRODID:-//MyCup Tournament//Match Calendar//EN
CALSCALE:GREGORIAN
METHOD:PUBLISH
BEGIN:VEVENT
UID:match-9cc420cc-9372-4d29-b3b5-5a15b831caf9@mycup.me
DTSTAMP:20260421T021309Z
DTSTART:20240825T160000Z
DTEND:20240825T180000Z
SUMMARY:Coastal Comets SC vs Emerald City Titans
DESCRIPTION:Premier League
LOCATION:Eagle's Nest Arena
STATUS:CONFIRMED
END:VEVENT
END:VCALENDAR