BEGIN:VCALENDAR
VERSION:2.0
PRODID:-//MyCup Tournament//Match Calendar//EN
CALSCALE:GREGORIAN
METHOD:PUBLISH
BEGIN:VEVENT
UID:match-9cc420cc-9451-4b1d-bb47-dbaac15faedd@mycup.me
DTSTAMP:20260421T034734Z
DTSTART:20240825T160000Z
DTEND:20240825T180000Z
SUMMARY:Maple Leaf United vs Golden Eagles United
DESCRIPTION:Premier League
LOCATION:Oceanic Wave Park
STATUS:CONFIRMED
END:VEVENT
END:VCALENDAR