BEGIN:VCALENDAR
VERSION:2.0
PRODID:-//MyCup Tournament//Match Calendar//EN
CALSCALE:GREGORIAN
METHOD:PUBLISH
BEGIN:VEVENT
UID:match-9cc420cc-94f1-438e-916b-02e2c71c741d@mycup.me
DTSTAMP:20260421T020214Z
DTSTART:20240825T160000Z
DTEND:20240825T180000Z
SUMMARY:Phoenix Flames FC vs Steel Wolves FC
DESCRIPTION:Premier League
LOCATION:Crimson Peak Arena
STATUS:CONFIRMED
END:VEVENT
END:VCALENDAR