BEGIN:VCALENDAR
VERSION:2.0
PRODID:-//MyCup Tournament//Match Calendar//EN
CALSCALE:GREGORIAN
METHOD:PUBLISH
BEGIN:VEVENT
UID:match-9cc420cc-95ec-4d7b-8fdb-0ec1563622a2@mycup.me
DTSTAMP:20260421T020559Z
DTSTART:20240825T160000Z
DTEND:20240825T180000Z
SUMMARY:Northern Lights FC vs River City Rangers
DESCRIPTION:Premier League
LOCATION:Lionsgate Field
STATUS:CONFIRMED
END:VEVENT
END:VCALENDAR