BEGIN:VCALENDAR
VERSION:2.0
PRODID:-//MyCup Tournament//Match Calendar//EN
CALSCALE:GREGORIAN
METHOD:PUBLISH
BEGIN:VEVENT
UID:match-9cc420cc-9704-44cd-a6c8-a6ca984feab0@mycup.me
DTSTAMP:20260421T015355Z
DTSTART:20240825T160000Z
DTEND:20240825T180000Z
SUMMARY:Mystic Owls SC vs Highland Dragons
DESCRIPTION:Premier League
LOCATION:Highland Fortress
STATUS:CONFIRMED
END:VEVENT
END:VCALENDAR