BEGIN:VCALENDAR
VERSION:2.0
PRODID:-//MyCup Tournament//Match Calendar//EN
CALSCALE:GREGORIAN
METHOD:PUBLISH
BEGIN:VEVENT
UID:match-9cc420cc-97b7-44a8-b35f-f3fc824ae4f0@mycup.me
DTSTAMP:20260421T034659Z
DTSTART:20240825T160000Z
DTEND:20240825T180000Z
SUMMARY:Black Pearl United vs Firestorm Rovers
DESCRIPTION:Premier League
LOCATION:Riverbank Stadium
STATUS:CONFIRMED
END:VEVENT
END:VCALENDAR