BEGIN:VCALENDAR
VERSION:2.0
PRODID:-//MyCup Tournament//Match Calendar//EN
CALSCALE:GREGORIAN
METHOD:PUBLISH
BEGIN:VEVENT
UID:match-9cc420cc-98e4-4845-bcec-57f2d0308916@mycup.me
DTSTAMP:20260421T020307Z
DTSTART:20240825T160000Z
DTEND:20240825T180000Z
SUMMARY:Ironclad Warriors vs Thunderstorm FC
DESCRIPTION:Premier League
LOCATION:Phoenix Flame Stadium
STATUS:CONFIRMED
END:VEVENT
END:VCALENDAR