BEGIN:VCALENDAR
VERSION:2.0
PRODID:-//MyCup Tournament//Match Calendar//EN
CALSCALE:GREGORIAN
METHOD:PUBLISH
BEGIN:VEVENT
UID:match-9cc420cc-99bf-49dc-89c6-53152c2f5c92@mycup.me
DTSTAMP:20260421T021341Z
DTSTART:20240825T160000Z
DTEND:20240825T180000Z
SUMMARY:Silver Foxes SC vs Blue Wave United
DESCRIPTION:Premier League
LOCATION:Maplewood Park
STATUS:CONFIRMED
END:VEVENT
END:VCALENDAR